BEGIN:VCALENDAR
VERSION:2.0
PRODID:-//Squarespace Inc/Squarespace 6//v6//EN
BEGIN:VEVENT
UID:594231f644024391be865145@squarespace.com
DTSTAMP:20170621T051958Z
DTSTART:20171018T073000Z
DTEND:20171018T103000Z
SUMMARY:STAMP MAKING WORKSHOP
GEO:-37.765962;144.986419
LOCATION:BIGBANG studio\, 1/177 Beavers Road\, Northcote\, VIC\, 3070\, Aus
 tralia
END:VEVENT
END:VCALENDAR
