BEGIN:VCALENDAR
VERSION:2.0
PRODID:-//Squarespace Inc/Squarespace 6//v6//EN
BEGIN:VEVENT
UID:59422758ebbd1a63783d26cd@squarespace.com
DTSTAMP:20170621T052129Z
DTSTART:20171025T073000Z
DTEND:20171025T103000Z
SUMMARY:CERAMIC TABLEWARE WORKSHOP
END:VEVENT
END:VCALENDAR
