BEGIN:VCALENDAR
VERSION:2.0
PRODID:-//Squarespace Inc/Squarespace 6//v6//EN
BEGIN:VEVENT
UID:5940dfb659cc6848553f2afb@squarespace.com
DTSTAMP:20170621T045943Z
DTSTART:20170720T083000Z
DTEND:20170720T113000Z
SUMMARY:RAINFOREST TERRARIUM WORKSHOP
GEO:-37.765962;144.986419
LOCATION:BIGBANG Studios\, 1/177 Beavers Road\, Northcote\, VIC\, 3070\, Au
 stralia
END:VEVENT
END:VCALENDAR
