BEGIN:VCALENDAR
VERSION:2.0
PRODID:-//Squarespace Inc/Squarespace 6//v6//EN
BEGIN:VEVENT
UID:5940ddfa893fc04fe54f81b9@squarespace.com
DTSTAMP:20170621T045840Z
DTSTART:20170719T083000Z
DTEND:20170719T113000Z
SUMMARY:WATERCOLOUR WORKSHOP
GEO:-37.765533;144.986104
LOCATION:BIGBANG Studios\, 1/177 Beavers Rd\, Northcote\, 3070\, Australia
END:VEVENT
END:VCALENDAR
