BEGIN:VCALENDAR
VERSION:2.0
PRODID:-//Squarespace Inc/Squarespace 6//v6//EN
BEGIN:VEVENT
UID:5940dbee59cc6848553f0ca2@squarespace.com
DTSTAMP:20170621T045557Z
DTSTART:20170705T083000Z
DTEND:20170705T113000Z
SUMMARY:AIR DRY POTTERY WORKSHOP
GEO:-37.765962;144.986419
LOCATION:BIGBANG Studios\, 1/177 Beavers Road\, Northcote\, VIC\, 3070\, Au
 stralia
END:VEVENT
END:VCALENDAR
