BEGIN:VCALENDAR
VERSION:2.0
PRODID:-//Squarespace Inc/Squarespace 6//v6//EN
BEGIN:VEVENT
UID:5940e4281e5b6c2616d78419@squarespace.com
DTSTAMP:20170621T050715Z
DTSTART:20170816T083000Z
DTEND:20170816T113000Z
SUMMARY:KOKEDAMA WORKSHOP
GEO:-37.765962;144.986419
LOCATION:BIGBANG Studios\, 1/177 Beavers Rd\, Northcote\, 3070\, Australia
END:VEVENT
END:VCALENDAR
