BEGIN:VCALENDAR
VERSION:2.0
PRODID:-//Squarespace Inc/Squarespace 6//v6//EN
BEGIN:VEVENT
UID:59422e56ff7c503b3f7cf7bb@squarespace.com
DTSTAMP:20170621T051518Z
DTSTART:20170913T083000Z
DTEND:20170913T113000Z
SUMMARY:BASKET WEAVING WORKSHOP
GEO:-37.765962;144.986419
LOCATION:BIGBANG studios\, 1/177 Beavers Road\, Northcote\, VIC\, 3070\, Au
 stralia
END:VEVENT
END:VCALENDAR
