BEGIN:VCALENDAR
VERSION:2.0
PRODID:-//Squarespace Inc/Squarespace 6//v6//EN
BEGIN:VEVENT
UID:59422f33579fb3884f32f2c2@squarespace.com
DTSTAMP:20170621T051651Z
DTSTART:20170916T030000Z
DTEND:20170916T070000Z
SUMMARY:WEAVE A WALL HANGING WORKSHOP
GEO:-37.765962;144.986419
LOCATION:BIGNBANG studios\, 1/177 Beavers Road\, Northcote\, VIC\, 3070\, A
 ustralia
END:VEVENT
END:VCALENDAR
