BEGIN:VCALENDAR
VERSION:2.0
PRODID:-//Squarespace Inc/Squarespace 6//v6//EN
BEGIN:VEVENT
UID:594230192994ca9f06654c7e@squarespace.com
DTSTAMP:20180601T224720Z
DTSTART:20170920T083000Z
DTEND:20170920T113000Z
SUMMARY:MACRAME PLANT HANGER WORKSHOP
GEO:-37.765962;144.986419
LOCATION:BIGBANG studios\, 1/177 Beavers Road\, Northcote\, VIC\, 3070\, Au
 stralia
END:VEVENT
END:VCALENDAR
